BEGIN:VCALENDAR
VERSION:2.0
PRODID:icalendar-ruby
CALSCALE:GREGORIAN
METHOD:PUBLISH
BEGIN:VEVENT
DTSTAMP:20260424T122654Z
UID:86-411475@copperfieldbible.tithelysetup5.com
DTSTART:20260427T233000Z
DTEND:20260428T003000Z
CLASS:PUBLIC
CREATED:20260423T121548
DESCRIPTION:All young adults (18-30ish\, single or married) are invited to 
 join the young adult fellowship at the Elie’s home for food\, fellowshi
 p\, study\, and prayer.  Contact Phil or Juliana Elie for more informatio
 n.
LAST-MODIFIED:20260423T121548
LOCATION:
SUMMARY:Young Adult Fellowship
URL;VALUE=URI:https://www.cbctex.org/events/young-adult-fellowship/2026-04-
 27
ATTACH;FILENAME=EVENT-Young-Adults.jpg;FMTTYPE=image/jpeg:https://dq5pwpg1q
 8ru0.cloudfront.net/2025/12/04/21/34/04/53c9beff-863d-491f-9e5e-b00c025ea1
 24/EVENT-Young-Adults.jpg
END:VEVENT
END:VCALENDAR
