BEGIN:VCALENDAR
VERSION:2.0
PRODID:icalendar-ruby
CALSCALE:GREGORIAN
METHOD:PUBLISH
BEGIN:VEVENT
DTSTAMP:20260424T122658Z
UID:44-411474@copperfieldbible.tithelysetup5.com
DTSTART:20260502T130000Z
DTEND:20260502T140000Z
CLASS:PUBLIC
CREATED:20260423T121526
DESCRIPTION:CBC Men - Join us Saturday at 8:00 am in the Fellowship Hall.
    Josh Hong will be leading a discussion titled "The Role of Wisdom in 
 the Bible: Questions".\nYou will find this is a great way to get to know t
 he men at CBC.  Coffee included.   
LAST-MODIFIED:20260423T121526
LOCATION:
SUMMARY:Men's Study
URL;VALUE=URI:https://www.cbctex.org/events/mens-study/2026-05-02
ATTACH;FILENAME=FC8w7.jpg;FMTTYPE=image/jpeg:https://dq5pwpg1q8ru0.cloudfro
 nt.net/2023/04/29/06/17/53/1dcf7c1c-684f-4ead-bffa-b43434aa38f2/FC8w7.jpg
END:VEVENT
END:VCALENDAR
