BEGIN:VCALENDAR
VERSION:2.0
PRODID:icalendar-ruby
CALSCALE:GREGORIAN
METHOD:PUBLISH
BEGIN:VEVENT
DTSTAMP:20260424T122654Z
UID:90-411471@copperfieldbible.tithelysetup5.com
DTSTART:20260504T153000Z
DTEND:20260504T170000Z
CLASS:PUBLIC
CREATED:20260422T143611
DESCRIPTION:
LAST-MODIFIED:20260422T143611
LOCATION:Meyers' home
SUMMARY:Ladies' Monthly Monday Study & Fellowship
URL;VALUE=URI:https://www.cbctex.org/events/ladies-monthly-monday-study-fel
 lowship/2026-05-04
ATTACH;FILENAME=ACIk.jpg;FMTTYPE=image/jpeg:https://dq5pwpg1q8ru0.cloudfron
 t.net/2026/04/20/16/09/33/b9aa02c7-6d18-4d76-babb-a33befd72b16/ACIk.jpg
END:VEVENT
END:VCALENDAR
